BEGIN:VCALENDAR
VERSION:2.0
PRODID:-//Tours Arts Productions - ECPv6.15.20//NONSGML v1.0//EN
CALSCALE:GREGORIAN
METHOD:PUBLISH
X-ORIGINAL-URL:https://toursartsproductions.fr
X-WR-CALDESC:Évènements pour Tours Arts Productions
REFRESH-INTERVAL;VALUE=DURATION:PT1H
X-Robots-Tag:noindex
X-PUBLISHED-TTL:PT1H
BEGIN:VTIMEZONE
TZID:Europe/Paris
BEGIN:DAYLIGHT
TZOFFSETFROM:+0100
TZOFFSETTO:+0200
TZNAME:CEST
DTSTART:20260329T010000
END:DAYLIGHT
BEGIN:STANDARD
TZOFFSETFROM:+0200
TZOFFSETTO:+0100
TZNAME:CET
DTSTART:20261025T010000
END:STANDARD
BEGIN:DAYLIGHT
TZOFFSETFROM:+0100
TZOFFSETTO:+0200
TZNAME:CEST
DTSTART:20270328T010000
END:DAYLIGHT
BEGIN:STANDARD
TZOFFSETFROM:+0200
TZOFFSETTO:+0100
TZNAME:CET
DTSTART:20271031T010000
END:STANDARD
BEGIN:DAYLIGHT
TZOFFSETFROM:+0100
TZOFFSETTO:+0200
TZNAME:CEST
DTSTART:20280326T010000
END:DAYLIGHT
BEGIN:STANDARD
TZOFFSETFROM:+0200
TZOFFSETTO:+0100
TZNAME:CET
DTSTART:20281029T010000
END:STANDARD
END:VTIMEZONE
BEGIN:VEVENT
DTSTART;TZID=Europe/Paris:20270924T200000
DTEND;TZID=Europe/Paris:20270924T220000
DTSTAMP:20260419T202235
CREATED:20251217T105335Z
LAST-MODIFIED:20251217T105335Z
UID:7421-1821816000-1821823200@toursartsproductions.fr
SUMMARY:PERPIGNAN
DESCRIPTION:
URL:https://toursartsproductions.fr/evenements/gall-berger-perpignan-bientot/
LOCATION:PERPIGNAN – PALAIS DES CONGRÈS\, PLACE ARMAND LANOUX\, PERPIGNAN\, 66000\, France
CATEGORIES:FRANCE GALL & MICHEL BERGER
ATTACH;FMTTYPE=image/png:https://toursartsproductions.fr/wp-content/uploads/2025/05/2.png
ORGANIZER;CN="TOURS ARTS PRODUCTIONS":MAILTO:pierrickmenard@live.fr
END:VEVENT
BEGIN:VEVENT
DTSTART;TZID=Europe/Paris:20270930T200000
DTEND;TZID=Europe/Paris:20270930T220000
DTSTAMP:20260419T202235
CREATED:20260128T115851Z
LAST-MODIFIED:20260303T161722Z
UID:7470-1822334400-1822341600@toursartsproductions.fr
SUMMARY:AIX-EN-PROVENCE
DESCRIPTION:
URL:https://toursartsproductions.fr/evenements/gall-berger-aix-en-provence/
LOCATION:AIX EN PROVENCE – PASINO GRAND\, 21 avenue de l'Europe\, AIX EN PROVENCE\, 13090\, France
CATEGORIES:FRANCE GALL & MICHEL BERGER
ATTACH;FMTTYPE=image/png:https://toursartsproductions.fr/wp-content/uploads/2025/05/1.png
END:VEVENT
END:VCALENDAR