BEGIN:VCALENDAR
VERSION:2.0
PRODID:-//Tours Arts Productions - ECPv6.15.20//NONSGML v1.0//EN
CALSCALE:GREGORIAN
METHOD:PUBLISH
X-ORIGINAL-URL:https://toursartsproductions.fr
X-WR-CALDESC:Évènements pour Tours Arts Productions
REFRESH-INTERVAL;VALUE=DURATION:PT1H
X-Robots-Tag:noindex
X-PUBLISHED-TTL:PT1H
BEGIN:VTIMEZONE
TZID:Europe/Paris
BEGIN:DAYLIGHT
TZOFFSETFROM:+0100
TZOFFSETTO:+0200
TZNAME:CEST
DTSTART:20260329T010000
END:DAYLIGHT
BEGIN:STANDARD
TZOFFSETFROM:+0200
TZOFFSETTO:+0100
TZNAME:CET
DTSTART:20261025T010000
END:STANDARD
BEGIN:DAYLIGHT
TZOFFSETFROM:+0100
TZOFFSETTO:+0200
TZNAME:CEST
DTSTART:20270328T010000
END:DAYLIGHT
BEGIN:STANDARD
TZOFFSETFROM:+0200
TZOFFSETTO:+0100
TZNAME:CET
DTSTART:20271031T010000
END:STANDARD
BEGIN:DAYLIGHT
TZOFFSETFROM:+0100
TZOFFSETTO:+0200
TZNAME:CEST
DTSTART:20280326T010000
END:DAYLIGHT
BEGIN:STANDARD
TZOFFSETFROM:+0200
TZOFFSETTO:+0100
TZNAME:CET
DTSTART:20281029T010000
END:STANDARD
END:VTIMEZONE
BEGIN:VEVENT
DTSTART;TZID=Europe/Paris:20271003T200000
DTEND;TZID=Europe/Paris:20271003T220000
DTSTAMP:20260419T215832
CREATED:20260415T121535Z
LAST-MODIFIED:20260415T121535Z
UID:7592-1822593600-1822600800@toursartsproductions.fr
SUMMARY:BÉZIERS
DESCRIPTION:
URL:https://toursartsproductions.fr/evenements/gall-berger-beziers/
LOCATION:ZINGA ZANGA BEZIERS\, Traverse de Colombiers\, BEZIERS\, 34500\, France
CATEGORIES:FRANCE GALL & MICHEL BERGER
ATTACH;FMTTYPE=image/png:https://toursartsproductions.fr/wp-content/uploads/2025/05/1.png
END:VEVENT
BEGIN:VEVENT
DTSTART;TZID=Europe/Paris:20271008T200000
DTEND;TZID=Europe/Paris:20271008T223000
DTSTAMP:20260419T215832
CREATED:20260119T111528Z
LAST-MODIFIED:20260119T111528Z
UID:7465-1823025600-1823034600@toursartsproductions.fr
SUMMARY:MÉRIGNAC / BORDEAUX
DESCRIPTION:
URL:https://toursartsproductions.fr/evenements/gall-berger-merignac-bordeaux-bientot/
LOCATION:BORDEAUX MERIGNAC LE PIN GALANT\, 34 Av. du Maréchal de Lattre de Tassigny\, 33700 Mérignac\, MERIGNAC / BORDEAUX\, France
CATEGORIES:FRANCE GALL & MICHEL BERGER
ATTACH;FMTTYPE=image/png:https://toursartsproductions.fr/wp-content/uploads/2025/05/2.png
ORGANIZER;CN="TOURS ARTS PRODUCTIONS":MAILTO:pierrickmenard@live.fr
END:VEVENT
BEGIN:VEVENT
DTSTART;TZID=Europe/Paris:20271010T170000
DTEND;TZID=Europe/Paris:20271010T190000
DTSTAMP:20260419T215832
CREATED:20260408T145729Z
LAST-MODIFIED:20260408T145729Z
UID:7579-1823187600-1823194800@toursartsproductions.fr
SUMMARY:BIARRITZ
DESCRIPTION:
URL:https://toursartsproductions.fr/evenements/gall-berger-biarritz-bientot/
LOCATION:BIARRITZ – GARE DU MIDI\, 23 avenue du général Foch\, BIARRITZ\, 64200\, France
CATEGORIES:FRANCE GALL & MICHEL BERGER
ATTACH;FMTTYPE=image/png:https://toursartsproductions.fr/wp-content/uploads/2025/05/2.png
ORGANIZER;CN="TOURS ARTS PRODUCTIONS":MAILTO:pierrickmenard@live.fr
END:VEVENT
END:VCALENDAR