BEGIN:VCALENDAR
VERSION:2.0
PRODID:-//Tours Arts Productions - ECPv6.15.20//NONSGML v1.0//EN
CALSCALE:GREGORIAN
METHOD:PUBLISH
X-WR-CALNAME:Tours Arts Productions
X-ORIGINAL-URL:https://toursartsproductions.fr
X-WR-CALDESC:Évènements pour Tours Arts Productions
REFRESH-INTERVAL;VALUE=DURATION:PT1H
X-Robots-Tag:noindex
X-PUBLISHED-TTL:PT1H
BEGIN:VTIMEZONE
TZID:Europe/Paris
BEGIN:DAYLIGHT
TZOFFSETFROM:+0100
TZOFFSETTO:+0200
TZNAME:CEST
DTSTART:20260329T010000
END:DAYLIGHT
BEGIN:STANDARD
TZOFFSETFROM:+0200
TZOFFSETTO:+0100
TZNAME:CET
DTSTART:20261025T010000
END:STANDARD
BEGIN:DAYLIGHT
TZOFFSETFROM:+0100
TZOFFSETTO:+0200
TZNAME:CEST
DTSTART:20270328T010000
END:DAYLIGHT
BEGIN:STANDARD
TZOFFSETFROM:+0200
TZOFFSETTO:+0100
TZNAME:CET
DTSTART:20271031T010000
END:STANDARD
BEGIN:DAYLIGHT
TZOFFSETFROM:+0100
TZOFFSETTO:+0200
TZNAME:CEST
DTSTART:20280326T010000
END:DAYLIGHT
BEGIN:STANDARD
TZOFFSETFROM:+0200
TZOFFSETTO:+0100
TZNAME:CET
DTSTART:20281029T010000
END:STANDARD
END:VTIMEZONE
BEGIN:VEVENT
DTSTART;TZID=Europe/Paris:20271107T200000
DTEND;TZID=Europe/Paris:20271107T220000
DTSTAMP:20260420T000451
CREATED:20260112T095911Z
LAST-MODIFIED:20260112T095911Z
UID:7462-1825617600-1825624800@toursartsproductions.fr
SUMMARY:ORLÉANS
DESCRIPTION:
URL:https://toursartsproductions.fr/evenements/gall-berger-orleans-bientot/
LOCATION:PALAIS DES CONGRÈS – CO’MET ORLÉANS\, Co'Met Arena\, Rue du Président Robert Schuman\, ORLÉANS\, 45100\, France
CATEGORIES:FRANCE GALL & MICHEL BERGER
ATTACH;FMTTYPE=image/png:https://toursartsproductions.fr/wp-content/uploads/2025/05/2.png
END:VEVENT
BEGIN:VEVENT
DTSTART;TZID=Europe/Paris:20271120T200000
DTEND;TZID=Europe/Paris:20271120T220000
DTSTAMP:20260420T000451
CREATED:20251217T105549Z
LAST-MODIFIED:20251217T105549Z
UID:7423-1826740800-1826748000@toursartsproductions.fr
SUMMARY:SAINT-GRÉGOIRE
DESCRIPTION:
URL:https://toursartsproductions.fr/evenements/gall-berger-saint-gregoire-bientot/
LOCATION:EMC2 SAINT GRÉGOIRE\, Rue Simone Veil\, SAINT-GRÉGOIRE / RENNES\, 35760\, France
CATEGORIES:FRANCE GALL & MICHEL BERGER
ATTACH;FMTTYPE=image/png:https://toursartsproductions.fr/wp-content/uploads/2025/05/2.png
ORGANIZER;CN="TOURS ARTS PRODUCTIONS":MAILTO:pierrickmenard@live.fr
END:VEVENT
END:VCALENDAR