BEGIN:VCALENDAR
VERSION:2.0
PRODID:-//Tours Arts Productions - ECPv6.15.20//NONSGML v1.0//EN
CALSCALE:GREGORIAN
METHOD:PUBLISH
X-ORIGINAL-URL:https://toursartsproductions.fr
X-WR-CALDESC:Évènements pour Tours Arts Productions
REFRESH-INTERVAL;VALUE=DURATION:PT1H
X-Robots-Tag:noindex
X-PUBLISHED-TTL:PT1H
BEGIN:VTIMEZONE
TZID:Europe/Paris
BEGIN:DAYLIGHT
TZOFFSETFROM:+0100
TZOFFSETTO:+0200
TZNAME:CEST
DTSTART:20250330T010000
END:DAYLIGHT
BEGIN:STANDARD
TZOFFSETFROM:+0200
TZOFFSETTO:+0100
TZNAME:CET
DTSTART:20251026T010000
END:STANDARD
BEGIN:DAYLIGHT
TZOFFSETFROM:+0100
TZOFFSETTO:+0200
TZNAME:CEST
DTSTART:20260329T010000
END:DAYLIGHT
BEGIN:STANDARD
TZOFFSETFROM:+0200
TZOFFSETTO:+0100
TZNAME:CET
DTSTART:20261025T010000
END:STANDARD
BEGIN:DAYLIGHT
TZOFFSETFROM:+0100
TZOFFSETTO:+0200
TZNAME:CEST
DTSTART:20270328T010000
END:DAYLIGHT
BEGIN:STANDARD
TZOFFSETFROM:+0200
TZOFFSETTO:+0100
TZNAME:CET
DTSTART:20271031T010000
END:STANDARD
END:VTIMEZONE
BEGIN:VEVENT
DTSTART;TZID=Europe/Paris:20260606T203000
DTEND;TZID=Europe/Paris:20260606T223000
DTSTAMP:20260421T144154
CREATED:20241205T102304Z
LAST-MODIFIED:20260409T073044Z
UID:5836-1780777800-1780785000@toursartsproductions.fr
SUMMARY:ZENITH PAU
DESCRIPTION:
URL:https://toursartsproductions.fr/evenements/covertramp-pau/
LOCATION:ZENITH PAU\, RUE SUZANNE BACARISSE\, PAU\, 64000\, France
CATEGORIES:COVERTRAMP FRANCE
ATTACH;FMTTYPE=image/png:https://toursartsproductions.fr/wp-content/uploads/2024/10/DERNIERES-PLACES.png
ORGANIZER;CN="TOURS ARTS PRODUCTIONS":MAILTO:pierrickmenard@live.fr
END:VEVENT
BEGIN:VEVENT
DTSTART;TZID=Europe/Paris:20260613T203000
DTEND;TZID=Europe/Paris:20260613T223000
DTSTAMP:20260421T144154
CREATED:20250411T163017Z
LAST-MODIFIED:20250711T071108Z
UID:6077-1781382600-1781389800@toursartsproductions.fr
SUMMARY:FUTUROSCOPE POITIERS
DESCRIPTION:
URL:https://toursartsproductions.fr/evenements/covertramp-futuroscope-poitiers/
LOCATION:POITIERS FUTUROSCOPE – PALAIS DU CONGRÈS\, 1 Av. du Futuroscope\, CHASSENEUIL-DU-POITOU / POITIERS\, 86360\, France
CATEGORIES:COVERTRAMP FRANCE
ATTACH;FMTTYPE=image/png:https://toursartsproductions.fr/wp-content/uploads/2024/10/BILLETTERIE-OUVERTE.png
ORGANIZER;CN="TOURS ARTS PRODUCTIONS":MAILTO:pierrickmenard@live.fr
END:VEVENT
BEGIN:VEVENT
DTSTART;TZID=Europe/Paris:20260619T203000
DTEND;TZID=Europe/Paris:20260619T223000
DTSTAMP:20260421T144154
CREATED:20250512T123536Z
LAST-MODIFIED:20260306T153949Z
UID:6829-1781901000-1781908200@toursartsproductions.fr
SUMMARY:CHARTRES
DESCRIPTION:
URL:https://toursartsproductions.fr/evenements/covertramp-chartres/
LOCATION:CHARTRES – LE COLISÉE\, 28 Rue Danièle Casanova\, CHARTRES\, 28000\, France
CATEGORIES:COVERTRAMP FRANCE
ATTACH;FMTTYPE=image/png:https://toursartsproductions.fr/wp-content/uploads/2024/10/DERNIERES-PLACES.png
ORGANIZER;CN="TOURS ARTS PRODUCTIONS":MAILTO:pierrickmenard@live.fr
END:VEVENT
BEGIN:VEVENT
DTSTART;TZID=Europe/Paris:20260623T200000
DTEND;TZID=Europe/Paris:20260623T220000
DTSTAMP:20260421T144154
CREATED:20251002T073209Z
LAST-MODIFIED:20251010T145115Z
UID:7233-1782244800-1782252000@toursartsproductions.fr
SUMMARY:PLEYEL PARIS
DESCRIPTION:
URL:https://toursartsproductions.fr/evenements/bee-gees-pleyel/
LOCATION:PARIS – PLEYEL\, 252 Rue du Faubourg Saint-Honoré\,\, PARIS\, 75008\, France
CATEGORIES:NIGHT FEVER - A TRIBUTE TO THE BEE GEES
ATTACH;FMTTYPE=image/png:https://toursartsproductions.fr/wp-content/uploads/2025/10/BILLETTERIE-OUVERTE-NIGHT-FEVER.png
END:VEVENT
BEGIN:VEVENT
DTSTART;TZID=Europe/Paris:20260625T200000
DTEND;TZID=Europe/Paris:20260625T220000
DTSTAMP:20260421T144154
CREATED:20251013T092007Z
LAST-MODIFIED:20251104T093010Z
UID:7263-1782417600-1782424800@toursartsproductions.fr
SUMMARY:QUIMPER
DESCRIPTION:
URL:https://toursartsproductions.fr/evenements/bee-gees-quimper/
LOCATION:PARC DES EXPOS DE QUIMPER\, Parc des Expositions de Quimper-Cornouaille\, 32 Bis Rue de Stang Bihan\, 29000 Quimper\, QUIMPER / CORNOUAILLE\, France
CATEGORIES:NIGHT FEVER - A TRIBUTE TO THE BEE GEES
ATTACH;FMTTYPE=image/png:https://toursartsproductions.fr/wp-content/uploads/2025/10/BILLETTERIE-OUVERTE-NIGHT-FEVER.png
ORGANIZER;CN="TOURS ARTS PRODUCTIONS":MAILTO:pierrickmenard@live.fr
END:VEVENT
BEGIN:VEVENT
DTSTART;TZID=Europe/Paris:20260626T200000
DTEND;TZID=Europe/Paris:20260626T220000
DTSTAMP:20260421T144154
CREATED:20251013T074448Z
LAST-MODIFIED:20251107T092256Z
UID:7260-1782504000-1782511200@toursartsproductions.fr
SUMMARY:BREST ARENA
DESCRIPTION:
URL:https://toursartsproductions.fr/evenements/bee-gees-brest/
LOCATION:BREST ARENA\, Brest Arena 140 Boulevard de Plymouth\, BREST\, 29200\, France
CATEGORIES:NIGHT FEVER - A TRIBUTE TO THE BEE GEES
ATTACH;FMTTYPE=image/png:https://toursartsproductions.fr/wp-content/uploads/2025/10/BILLETTERIE-OUVERTE-NIGHT-FEVER.png
ORGANIZER;CN="TOURS ARTS PRODUCTIONS":MAILTO:pierrickmenard@live.fr
END:VEVENT
BEGIN:VEVENT
DTSTART;TZID=Europe/Paris:20260626T203000
DTEND;TZID=Europe/Paris:20260626T223000
DTSTAMP:20260421T144154
CREATED:20250512T101922Z
LAST-MODIFIED:20250711T074936Z
UID:6800-1782505800-1782513000@toursartsproductions.fr
SUMMARY:ANGERS
DESCRIPTION:
URL:https://toursartsproductions.fr/evenements/gall-berger-angers/
LOCATION:ANGERS – CENTRE DES CONGRES\, 33 Bd Carnot\, ANGERS\, 49100\, France
CATEGORIES:FRANCE GALL & MICHEL BERGER
ATTACH;FMTTYPE=image/png:https://toursartsproductions.fr/wp-content/uploads/2025/05/1.png
ORGANIZER;CN="TOURS ARTS PRODUCTIONS":MAILTO:pierrickmenard@live.fr
END:VEVENT
END:VCALENDAR