BEGIN:VCALENDAR
VERSION:2.0
PRODID:-//Tours Arts Productions - ECPv6.15.20//NONSGML v1.0//EN
CALSCALE:GREGORIAN
METHOD:PUBLISH
X-ORIGINAL-URL:https://toursartsproductions.fr
X-WR-CALDESC:Évènements pour Tours Arts Productions
REFRESH-INTERVAL;VALUE=DURATION:PT1H
X-Robots-Tag:noindex
X-PUBLISHED-TTL:PT1H
BEGIN:VTIMEZONE
TZID:Europe/Paris
BEGIN:DAYLIGHT
TZOFFSETFROM:+0100
TZOFFSETTO:+0200
TZNAME:CEST
DTSTART:20250330T010000
END:DAYLIGHT
BEGIN:STANDARD
TZOFFSETFROM:+0200
TZOFFSETTO:+0100
TZNAME:CET
DTSTART:20251026T010000
END:STANDARD
BEGIN:DAYLIGHT
TZOFFSETFROM:+0100
TZOFFSETTO:+0200
TZNAME:CEST
DTSTART:20260329T010000
END:DAYLIGHT
BEGIN:STANDARD
TZOFFSETFROM:+0200
TZOFFSETTO:+0100
TZNAME:CET
DTSTART:20261025T010000
END:STANDARD
BEGIN:DAYLIGHT
TZOFFSETFROM:+0100
TZOFFSETTO:+0200
TZNAME:CEST
DTSTART:20270328T010000
END:DAYLIGHT
BEGIN:STANDARD
TZOFFSETFROM:+0200
TZOFFSETTO:+0100
TZNAME:CET
DTSTART:20271031T010000
END:STANDARD
END:VTIMEZONE
BEGIN:VEVENT
DTSTART;TZID=Europe/Paris:20261203T200000
DTEND;TZID=Europe/Paris:20261203T220000
DTSTAMP:20260422T000856
CREATED:20251217T104507Z
LAST-MODIFIED:20251223T090143Z
UID:7415-1796328000-1796335200@toursartsproductions.fr
SUMMARY:LILLE
DESCRIPTION:
URL:https://toursartsproductions.fr/evenements/gall-berger-lille/
LOCATION:LILLE – THÉÂTRE SÉBASTOPOL\, Pl. Sébastopol\, LILLE\, 59000\, France
CATEGORIES:FRANCE GALL & MICHEL BERGER
ATTACH;FMTTYPE=image/png:https://toursartsproductions.fr/wp-content/uploads/2025/05/1.png
ORGANIZER;CN="TOURS ARTS PRODUCTIONS":MAILTO:pierrickmenard@live.fr
END:VEVENT
BEGIN:VEVENT
DTSTART;TZID=Europe/Paris:20261204T203000
DTEND;TZID=Europe/Paris:20261204T223000
DTSTAMP:20260422T000856
CREATED:20250512T125631Z
LAST-MODIFIED:20251211T093723Z
UID:6856-1796416200-1796423400@toursartsproductions.fr
SUMMARY:LILLE
DESCRIPTION:
URL:https://toursartsproductions.fr/evenements/covertramp-lille/
LOCATION:LILLE – THÉÂTRE SÉBASTOPOL\, Pl. Sébastopol\, LILLE\, 59000\, France
CATEGORIES:COVERTRAMP FRANCE
ATTACH;FMTTYPE=image/png:https://toursartsproductions.fr/wp-content/uploads/2024/10/BILLETTERIE-OUVERTE.png
ORGANIZER;CN="TOURS ARTS PRODUCTIONS":MAILTO:pierrickmenard@live.fr
END:VEVENT
BEGIN:VEVENT
DTSTART;TZID=Europe/Paris:20261205T203000
DTEND;TZID=Europe/Paris:20261205T223000
DTSTAMP:20260422T000856
CREATED:20250512T125957Z
LAST-MODIFIED:20250711T071538Z
UID:6858-1796502600-1796509800@toursartsproductions.fr
SUMMARY:ROUEN / LE GRAND-QUEVILLY
DESCRIPTION:
URL:https://toursartsproductions.fr/evenements/covertramp-rouen/
LOCATION:ROUEN – ZÉNITH\, 44 Av. des Canadiens\,\, LE GRAND-QUEVILLY / ROUEN\, 76120\, France
CATEGORIES:COVERTRAMP FRANCE
ATTACH;FMTTYPE=image/png:https://toursartsproductions.fr/wp-content/uploads/2024/10/BILLETTERIE-OUVERTE.png
ORGANIZER;CN="TOURS ARTS PRODUCTIONS":MAILTO:pierrickmenard@live.fr
END:VEVENT
BEGIN:VEVENT
DTSTART;TZID=Europe/Paris:20261211T080000
DTEND;TZID=Europe/Paris:20261211T170000
DTSTAMP:20260422T000856
CREATED:20250710T095315Z
LAST-MODIFIED:20260206T134257Z
UID:7076-1796976000-1797008400@toursartsproductions.fr
SUMMARY:NEUSTADT AN DER WEINSTRAßE (ALLEMAGNE)
DESCRIPTION:
URL:https://toursartsproductions.fr/evenements/covertramp-neustadt-an-der-weinstrase/
LOCATION:NEUSTADT AN DER WEINSTRAßE – SAALBAU\, Bahnhofstraße 1\, NEUSTADT AN DER WEINSTRAßE\, 67434 \, Germany
CATEGORIES:COVERTRAMP ALLEMAGNE
ATTACH;FMTTYPE=image/png:https://toursartsproductions.fr/wp-content/uploads/2024/10/BILLETTERIE-OUVERTE.png
END:VEVENT
BEGIN:VEVENT
DTSTART;TZID=Europe/Paris:20261217T203000
DTEND;TZID=Europe/Paris:20261217T223000
DTSTAMP:20260422T000856
CREATED:20251015T074842Z
LAST-MODIFIED:20260203T093027Z
UID:7273-1797539400-1797546600@toursartsproductions.fr
SUMMARY:COVERTRAMP SYMPHONY PLEYEL PARIS
DESCRIPTION:
URL:https://toursartsproductions.fr/evenements/covertramp-pleyel/
LOCATION:PARIS – PLEYEL\, 252 Rue du Faubourg Saint-Honoré\,\, PARIS\, 75008\, France
CATEGORIES:COVERTRAMP FRANCE
ATTACH;FMTTYPE=image/png:https://toursartsproductions.fr/wp-content/uploads/2025/10/Billetterie-ouverte-symphony.png
END:VEVENT
END:VCALENDAR