BEGIN:VCALENDAR
VERSION:2.0
PRODID:-//Tours Arts Productions - ECPv6.15.20//NONSGML v1.0//EN
CALSCALE:GREGORIAN
METHOD:PUBLISH
X-WR-CALNAME:Tours Arts Productions
X-ORIGINAL-URL:https://toursartsproductions.fr
X-WR-CALDESC:Évènements pour Tours Arts Productions
REFRESH-INTERVAL;VALUE=DURATION:PT1H
X-Robots-Tag:noindex
X-PUBLISHED-TTL:PT1H
BEGIN:VTIMEZONE
TZID:Europe/Paris
BEGIN:DAYLIGHT
TZOFFSETFROM:+0100
TZOFFSETTO:+0200
TZNAME:CEST
DTSTART:20260329T010000
END:DAYLIGHT
BEGIN:STANDARD
TZOFFSETFROM:+0200
TZOFFSETTO:+0100
TZNAME:CET
DTSTART:20261025T010000
END:STANDARD
BEGIN:DAYLIGHT
TZOFFSETFROM:+0100
TZOFFSETTO:+0200
TZNAME:CEST
DTSTART:20270328T010000
END:DAYLIGHT
BEGIN:STANDARD
TZOFFSETFROM:+0200
TZOFFSETTO:+0100
TZNAME:CET
DTSTART:20271031T010000
END:STANDARD
BEGIN:DAYLIGHT
TZOFFSETFROM:+0100
TZOFFSETTO:+0200
TZNAME:CEST
DTSTART:20280326T010000
END:DAYLIGHT
BEGIN:STANDARD
TZOFFSETFROM:+0200
TZOFFSETTO:+0100
TZNAME:CET
DTSTART:20281029T010000
END:STANDARD
END:VTIMEZONE
BEGIN:VEVENT
DTSTART;TZID=Europe/Paris:20270403T200000
DTEND;TZID=Europe/Paris:20270403T220000
DTSTAMP:20260422T070811
CREATED:20260325T160240Z
LAST-MODIFIED:20260325T160240Z
UID:7564-1806782400-1806789600@toursartsproductions.fr
SUMMARY:STRASBOURG
DESCRIPTION:
URL:https://toursartsproductions.fr/evenements/covertramp-strasbourg-bientot/
LOCATION:PALAIS DE LA MUSIQUE ET DES CONGRES – ERASME – STRASBOURG\, Place de Bordeaux\, STRASBOURG\, 67082\, France
CATEGORIES:COVERTRAMP FRANCE
ATTACH;FMTTYPE=image/png:https://toursartsproductions.fr/wp-content/uploads/2025/07/A-VENIR.png
END:VEVENT
BEGIN:VEVENT
DTSTART;TZID=Europe/Paris:20270404T200000
DTEND;TZID=Europe/Paris:20270404T220000
DTSTAMP:20260422T070811
CREATED:20260325T155808Z
LAST-MODIFIED:20260325T155808Z
UID:7561-1806868800-1806876000@toursartsproductions.fr
SUMMARY:ZÉNITH NANCY
DESCRIPTION:
URL:https://toursartsproductions.fr/evenements/covertramp-nancy-bientot/
LOCATION:ZENITH NANCY\, Rue du Zénith\, NANCY / MAXEVILLE\, 54320\, France
CATEGORIES:COVERTRAMP FRANCE
ATTACH;FMTTYPE=image/png:https://toursartsproductions.fr/wp-content/uploads/2025/07/A-VENIR.png
END:VEVENT
END:VCALENDAR