BEGIN:VCALENDAR
VERSION:2.0
PRODID:-//Tours Arts Productions - ECPv6.15.20//NONSGML v1.0//EN
CALSCALE:GREGORIAN
METHOD:PUBLISH
X-ORIGINAL-URL:https://toursartsproductions.fr
X-WR-CALDESC:Évènements pour Tours Arts Productions
REFRESH-INTERVAL;VALUE=DURATION:PT1H
X-Robots-Tag:noindex
X-PUBLISHED-TTL:PT1H
BEGIN:VTIMEZONE
TZID:Europe/Paris
BEGIN:DAYLIGHT
TZOFFSETFROM:+0100
TZOFFSETTO:+0200
TZNAME:CEST
DTSTART:20260329T010000
END:DAYLIGHT
BEGIN:STANDARD
TZOFFSETFROM:+0200
TZOFFSETTO:+0100
TZNAME:CET
DTSTART:20261025T010000
END:STANDARD
BEGIN:DAYLIGHT
TZOFFSETFROM:+0100
TZOFFSETTO:+0200
TZNAME:CEST
DTSTART:20270328T010000
END:DAYLIGHT
BEGIN:STANDARD
TZOFFSETFROM:+0200
TZOFFSETTO:+0100
TZNAME:CET
DTSTART:20271031T010000
END:STANDARD
BEGIN:DAYLIGHT
TZOFFSETFROM:+0100
TZOFFSETTO:+0200
TZNAME:CEST
DTSTART:20280326T010000
END:DAYLIGHT
BEGIN:STANDARD
TZOFFSETFROM:+0200
TZOFFSETTO:+0100
TZNAME:CET
DTSTART:20281029T010000
END:STANDARD
END:VTIMEZONE
BEGIN:VEVENT
DTSTART;TZID=Europe/Paris:20270604T203000
DTEND;TZID=Europe/Paris:20270604T223000
DTSTAMP:20260422T110138
CREATED:20251119T133510Z
LAST-MODIFIED:20260303T140850Z
UID:7392-1812141000-1812148200@toursartsproductions.fr
SUMMARY:SAARBRÜCKEN (ALLEMAGNE)
DESCRIPTION:
URL:https://toursartsproductions.fr/evenements/covertramp-saarbrucken/
LOCATION:SAARBRUCKEN – CONGRESSHALLE\, Hafenstraße 12\,\, SAARBRÜCKEN\, 66111\, Germany
CATEGORIES:COVERTRAMP ALLEMAGNE
ATTACH;FMTTYPE=image/png:https://toursartsproductions.fr/wp-content/uploads/2024/10/BILLETTERIE-OUVERTE.png
END:VEVENT
BEGIN:VEVENT
DTSTART;TZID=Europe/Paris:20270605T200000
DTEND;TZID=Europe/Paris:20270605T220000
DTSTAMP:20260422T110138
CREATED:20260105T111347Z
LAST-MODIFIED:20260318T150933Z
UID:7451-1812225600-1812232800@toursartsproductions.fr
SUMMARY:LOUVAIN-LA-NEUVE
DESCRIPTION:
URL:https://toursartsproductions.fr/evenements/gall-berger-louvain-la-neuve/
LOCATION:LOUVAIN-LA-NEUVE – AULA MAGNA\, Pl. Raymond Lemaire 1\, LOUVAIN-LA-NEUVE\, 1348\, Belgium
CATEGORIES:FRANCE GALL & MICHEL BERGER
ATTACH;FMTTYPE=image/png:https://toursartsproductions.fr/wp-content/uploads/2025/05/1.png
END:VEVENT
BEGIN:VEVENT
DTSTART;TZID=Europe/Paris:20270610T080000
DTEND;TZID=Europe/Paris:20270610T170000
DTSTAMP:20260422T110138
CREATED:20250710T095911Z
LAST-MODIFIED:20250710T143236Z
UID:7079-1812614400-1812646800@toursartsproductions.fr
SUMMARY:ZÉNITH NANTES
DESCRIPTION:
URL:https://toursartsproductions.fr/evenements/covertramp-zenith-nantes-bientot/
LOCATION:NANTES – ZÉNITH\, 1 Bd du Zénith\,\, SAINT-HERBLAIN / NANTES\, 44800\, France
CATEGORIES:COVERTRAMP FRANCE
ATTACH;FMTTYPE=image/png:https://toursartsproductions.fr/wp-content/uploads/2025/07/A-VENIR.png
END:VEVENT
END:VCALENDAR